BEGIN:VCALENDAR
VERSION:2.0
PRODID:-//Tukios.com/
BEGIN:VEVENT
UID:b7d7dd5f-04fa-4814-95b7-1761a5ee5700@www.mitchellfamilyfuneralhomes.com
DTSTAMP:20260420T001325Z
DTSTART:20260502T160000Z
DTEND:20260502T210000Z
SUMMARY:Celebration of Life
DESCRIPTION:
URL:https://www.mitchellfamilyfuneralhomes.com/obituaries/robert-butler
LOCATION:Godfrey's Pond 7925 Bigelow Drive  Byron NY 14422
GEO:43.0297584;-78.1109311
END:VEVENT
END:VCALENDAR